BEGIN:VCALENDAR
VERSION:2.0
PRODID:-//it schule stuttgart - ECPv6.15.19//NONSGML v1.0//EN
CALSCALE:GREGORIAN
METHOD:PUBLISH
X-WR-CALNAME:it schule stuttgart
X-ORIGINAL-URL:https://www.its-stuttgart.de
X-WR-CALDESC:Veranstaltungen für it schule stuttgart
REFRESH-INTERVAL;VALUE=DURATION:PT1H
X-Robots-Tag:noindex
X-PUBLISHED-TTL:PT1H
BEGIN:VTIMEZONE
TZID:Europe/Berlin
BEGIN:DAYLIGHT
TZOFFSETFROM:+0100
TZOFFSETTO:+0200
TZNAME:CEST
DTSTART:20240331T010000
END:DAYLIGHT
BEGIN:STANDARD
TZOFFSETFROM:+0200
TZOFFSETTO:+0100
TZNAME:CET
DTSTART:20241027T010000
END:STANDARD
BEGIN:DAYLIGHT
TZOFFSETFROM:+0100
TZOFFSETTO:+0200
TZNAME:CEST
DTSTART:20250330T010000
END:DAYLIGHT
BEGIN:STANDARD
TZOFFSETFROM:+0200
TZOFFSETTO:+0100
TZNAME:CET
DTSTART:20251026T010000
END:STANDARD
BEGIN:DAYLIGHT
TZOFFSETFROM:+0100
TZOFFSETTO:+0200
TZNAME:CEST
DTSTART:20260329T010000
END:DAYLIGHT
BEGIN:STANDARD
TZOFFSETFROM:+0200
TZOFFSETTO:+0100
TZNAME:CET
DTSTART:20261025T010000
END:STANDARD
END:VTIMEZONE
BEGIN:VEVENT
DTSTART;VALUE=DATE:20250408
DTEND;VALUE=DATE:20250409
DTSTAMP:20260422T031853
CREATED:20230208T114739Z
LAST-MODIFIED:20250310T053205Z
UID:7630-1744070400-1744156799@www.its-stuttgart.de
SUMMARY:Berufsschule IT-Prüfung AP1
DESCRIPTION:Gewerbliche u. kaufmännische IT-Berufe
URL:https://www.its-stuttgart.de/event/it-pruefung-teil-1-fruehjahr-2025/
LOCATION:it.schule stuttgart\, Breitwiesenstraße 20-22\, Stuttgart\, 70565
END:VEVENT
END:VCALENDAR