BEGIN:VCALENDAR
VERSION:2.0
PRODID:-//it schule stuttgart - ECPv6.15.19//NONSGML v1.0//EN
CALSCALE:GREGORIAN
METHOD:PUBLISH
X-WR-CALNAME:it schule stuttgart
X-ORIGINAL-URL:https://www.its-stuttgart.de
X-WR-CALDESC:Veranstaltungen für it schule stuttgart
REFRESH-INTERVAL;VALUE=DURATION:PT1H
X-Robots-Tag:noindex
X-PUBLISHED-TTL:PT1H
BEGIN:VTIMEZONE
TZID:Europe/Berlin
BEGIN:DAYLIGHT
TZOFFSETFROM:+0100
TZOFFSETTO:+0200
TZNAME:CEST
DTSTART:20210328T010000
END:DAYLIGHT
BEGIN:STANDARD
TZOFFSETFROM:+0200
TZOFFSETTO:+0100
TZNAME:CET
DTSTART:20211031T010000
END:STANDARD
BEGIN:DAYLIGHT
TZOFFSETFROM:+0100
TZOFFSETTO:+0200
TZNAME:CEST
DTSTART:20220327T010000
END:DAYLIGHT
BEGIN:STANDARD
TZOFFSETFROM:+0200
TZOFFSETTO:+0100
TZNAME:CET
DTSTART:20221030T010000
END:STANDARD
BEGIN:DAYLIGHT
TZOFFSETFROM:+0100
TZOFFSETTO:+0200
TZNAME:CEST
DTSTART:20230326T010000
END:DAYLIGHT
BEGIN:STANDARD
TZOFFSETFROM:+0200
TZOFFSETTO:+0100
TZNAME:CET
DTSTART:20231029T010000
END:STANDARD
END:VTIMEZONE
BEGIN:VEVENT
DTSTART;VALUE=DATE:20220301
DTEND;VALUE=DATE:20220302
DTSTAMP:20260423T165838
CREATED:20211212T104251Z
LAST-MODIFIED:20211212T104331Z
UID:6340-1646092800-1646179199@www.its-stuttgart.de
SUMMARY:Frist Abgabe BewO-Antrag
DESCRIPTION:Für alle\, die sich an TGI oder BK bewerben möchten: Ab dem 24. Januar und bis zum 1. März 2022 können Bewerbende den BewO-Antrag online ausfüllen und mehrere „Wunsch-Schulplätze“ in einer persönlichen Wunsch-Reihenfolge (sog. Prioritäten) festlegen. Den BewO-Antrag und alle notwendigen Unterlagen müssen Bewerbende bis spätestens 1. März an der Schule der 1. Priorität abgeben. Mehr Infos zur Bewerbung unter BewO – das Online-Bewerberverfahren
URL:https://www.its-stuttgart.de/event/frist-abgabe-bewo-antrag/
END:VEVENT
BEGIN:VEVENT
DTSTART;TZID=Europe/Berlin:20220308T093000
DTEND;TZID=Europe/Berlin:20220308T123000
DTSTAMP:20260423T165838
CREATED:20211208T172136Z
LAST-MODIFIED:20211208T172136Z
UID:6329-1646731800-1646742600@www.its-stuttgart.de
SUMMARY:Hausmesse 2022
DESCRIPTION:Hier zeigen Unternehmen und Bildungseinrichtungen unseren Schülerinnen und Schülern\, was sie den Studierenden und Auszubildenden von morgen zu bieten haben. Neben Informationsmaterial und wertvollen Kontakten zu Firmenvertretern erwarten die Besucher dort auch Vorträge\, um den Schülern einen Einblick in den Arbeitsalltag von Azubis und dualen Studenten zu geben. \nWeitere Informationen zur Hausmesse finden Sie hier
URL:https://www.its-stuttgart.de/event/hausmesse-2022/
END:VEVENT
END:VCALENDAR